BEGIN:VCALENDAR
VERSION:2.0
PRODID:-//wp-events-plugin.com//5.99912//EN
TZID:Europe/Berlin
X-WR-TIMEZONE:Europe/Berlin
BEGIN:VEVENT
UID:0-244@nordostalb-gau.albverein.eu
DTSTART;TZID=Europe/Berlin:20261020T180000
DTEND;TZID=Europe/Berlin:20261020T203000
DTSTAMP:20260113T211612Z
URL:https://nordostalb-gau.albverein.eu/events/2-gau-ausschusssitzung-2026
 /
SUMMARY:2.Gau-Ausschusssitzung 2026
DESCRIPTION:
CATEGORIES:Nordost-Alb-Gau
LOCATION:Wanderheim Dewangen\, Wanderheim\, Dewangen\, Deutschland
GEO:48.869465;10.032899
X-APPLE-STRUCTURED-LOCATION;VALUE=URI;X-ADDRESS=Wanderheim\, Dewangen\, Deu
 tschland;X-APPLE-RADIUS=100;X-TITLE=Wanderheim Dewangen:geo:48.869465,10.0
 32899
END:VEVENT
BEGIN:VTIMEZONE
TZID:Europe/Berlin
X-LIC-LOCATION:Europe/Berlin
BEGIN:DAYLIGHT
DTSTART:20260329T030000
TZOFFSETFROM:+0100
TZOFFSETTO:+0200
TZNAME:CEST
END:DAYLIGHT
END:VTIMEZONE
END:VCALENDAR