BEGIN:VCALENDAR
VERSION:2.0
PRODID:-//wp-events-plugin.com//5.99912//EN
TZID:Europe/Berlin
X-WR-TIMEZONE:Europe/Berlin
BEGIN:VEVENT
UID:0-246@nordostalb-gau.albverein.eu
DTSTART;TZID=Europe/Berlin:20270312T190000
DTEND;TZID=Europe/Berlin:20270312T213000
DTSTAMP:20260317T091621Z
URL:https://nordostalb-gau.albverein.eu/events/gauvertreterversammlung-4/
SUMMARY:Gauvertreterversammlung
DESCRIPTION:
CATEGORIES:Nordost-Alb-Gau
LOCATION:Brauerei-Gasthof Reichsadler\, Hauptstr. 22\, Mögglingen\, 73563\
 , Deutschland
GEO:48.822978;9.96169
X-APPLE-STRUCTURED-LOCATION;VALUE=URI;X-ADDRESS=Hauptstr. 22\, Mögglingen\
 , 73563\, Deutschland;X-APPLE-RADIUS=100;X-TITLE=Brauerei-Gasthof Reichsad
 ler:geo:48.822978,9.96169
END:VEVENT
BEGIN:VTIMEZONE
TZID:Europe/Berlin
X-LIC-LOCATION:Europe/Berlin
BEGIN:STANDARD
DTSTART:20261025T020000
TZOFFSETFROM:+0200
TZOFFSETTO:+0100
TZNAME:CET
END:STANDARD
END:VTIMEZONE
END:VCALENDAR